BEGIN:VCALENDAR
VERSION:2.0
PRODID:City of Livermore website Calendar Creator
METHOD:PUBLISH
BEGIN:VEVENT
DTSTAMP:20211216T143414
DTSTART:20220115T110000
DTEND:20220115T235900
SUMMARY:How to Draw Comics (Grade 1-6)
DESCRIPTION:<p>The Livermore Public Library will host a virtual How to Draw Comics Workshop via Zoom.&nbsp; Artist Oliver Chin will teach students in grades 1-6 how to create their own comic book.&nbsp; Chin will also cover some of the history of manga and anime.&nbsp; <br><br>Registration is required to receive the Zoom link.&nbsp; Register by calling 1-925-373-5505 starting December 27, 2021. Free supply kits are available for pickup at any Livermore Public Library branch.</p>For further information, please call 1-925-373-5500.
X-ALT-DESC;FMTTYPE=text/html:<p>The Livermore Public Library will host a virtual How to Draw Comics Workshop via Zoom.&nbsp; Artist Oliver Chin will teach students in grades 1-6 how to create their own comic book.&nbsp; Chin will also cover some of the history of manga and anime.&nbsp; <br><br>Registration is required to receive the Zoom link.&nbsp; Register by calling 1-925-373-5505 starting December 27, 2021. Free supply kits are available for pickup at any Livermore Public Library branch.</p>For further information, please call 1-925-373-5500.
LOCATION:
CLASS:PUBLIC
END:VEVENT
END:VCALENDAR
