BEGIN:VCALENDAR
VERSION:2.0
PRODID:City of Livermore website Calendar Creator
METHOD:PUBLISH
BEGIN:VEVENT
DTSTAMP:20211021T093145
DTSTART:20211021T100000
DTEND:20211021T110000
SUMMARY:CANCELED: Springtown Music & Movement
DESCRIPTION:<p>Due to the rainy weather, Music &amp; Movement is canceled at Springtown Library today.&nbsp;</p><p>Enjoy songs and movement activities that build motor and social skills and increase independence as well as language development in your child. We'll have lots of fun while moving to the music! Perfect for ages 1-5, but everyone is welcome. Class will be held outside (weather permitting) at Springtown Library. Bring your own blanket.<br><br>*NOTE: Registration is not required at the Springtown Library.<br><br>Time:&nbsp; Thursdays 10:00 AM<br>Where:&nbsp; Outside at Springtown Library, 998 Bluebell Drive, Livermore, CA, 94551<br>Suggested Audience:&nbsp; Children<br>Contact:&nbsp; (925) 373-5517</p>
X-ALT-DESC;FMTTYPE=text/html:<p>Due to the rainy weather, Music &amp; Movement is canceled at Springtown Library today.&nbsp;</p><p>Enjoy songs and movement activities that build motor and social skills and increase independence as well as language development in your child. We'll have lots of fun while moving to the music! Perfect for ages 1-5, but everyone is welcome. Class will be held outside (weather permitting) at Springtown Library. Bring your own blanket.<br><br>*NOTE: Registration is not required at the Springtown Library.<br><br>Time:&nbsp; Thursdays 10:00 AM<br>Where:&nbsp; Outside at Springtown Library, 998 Bluebell Drive, Livermore, CA, 94551<br>Suggested Audience:&nbsp; Children<br>Contact:&nbsp; (925) 373-5517</p>
LOCATION:Springtown Library\, 998 Bluebell Dr Livermore\, California 94551
CLASS:PUBLIC
END:VEVENT
END:VCALENDAR
