BEGIN:VCALENDAR
VERSION:2.0
PRODID:City of Livermore website Calendar Creator
METHOD:PUBLISH
BEGIN:VEVENT
DTSTAMP:20211025T135454
DTSTART:20211025T110000
DTEND:20211025T110000
SUMMARY:CANCELED: Music & Movement
DESCRIPTION:<p>Due to wet weather, Music &amp; Movement is canceled at Civic Center Library today.</p><p>Enjoy songs and movement activities that build motor and social skills and increase independence as well as language development in your child. We'll have lots of fun while moving to the music! Perfect for ages 1-5, but everyone is welcome. Registration is required at Civic Center Library and class will be held outside. Bring your own blanket.<br><br>*NOTE: Registration is required at the Civic Center Library. Call 925-373-5505 to sign up.<br><br>Time:&nbsp; Mondays 11:00 AM<br>Where:&nbsp; Outside at Civic Center Library, 1188 S. Livermore Avenue, Livermore, CA, 94550<br>Suggested Audience:&nbsp; Children<br>Contact:&nbsp; Tierney Alvarado (925) 373-5500</p>
X-ALT-DESC;FMTTYPE=text/html:<p>Due to wet weather, Music &amp; Movement is canceled at Civic Center Library today.</p><p>Enjoy songs and movement activities that build motor and social skills and increase independence as well as language development in your child. We'll have lots of fun while moving to the music! Perfect for ages 1-5, but everyone is welcome. Registration is required at Civic Center Library and class will be held outside. Bring your own blanket.<br><br>*NOTE: Registration is required at the Civic Center Library. Call 925-373-5505 to sign up.<br><br>Time:&nbsp; Mondays 11:00 AM<br>Where:&nbsp; Outside at Civic Center Library, 1188 S. Livermore Avenue, Livermore, CA, 94550<br>Suggested Audience:&nbsp; Children<br>Contact:&nbsp; Tierney Alvarado (925) 373-5500</p>
LOCATION:Civic Center Library\, 1188 S. Livermore Ave Livermore\, California 94550
CLASS:PUBLIC
END:VEVENT
END:VCALENDAR
