BEGIN:VCALENDAR
VERSION:2.0
PRODID:City of Livermore website Calendar Creator
METHOD:PUBLISH
BEGIN:VEVENT
DTSTAMP:20210924T123401
DTSTART:20211028T160000
DTEND:20211028T170000
SUMMARY:Book Discussion Group (grades 4-5)
DESCRIPTION:<p>Children in grades 4-5 may read a book of their choice and are encouraged to bring that book to share, discuss with the group and learn about other books they might enjoy reading. The meeting includes a book discussion and a fun activity. Registration is not required for these free groups. For more information, call 925-373-5505.</p><p><label>When:&nbsp;</label>Thursday, October 28, 2021<br><label>Time:&nbsp;</label>4:00 PM<br><label>Where:&nbsp;</label>Civic Center Library Patio, 1188 S. Livermore Ave., Livermore, CA, 94550<br><label>Suggested Audience:&nbsp;</label>Children (grades 4-5)<br><label>Contact:&nbsp;</label>Tierney Alvarado&nbsp; 925-373-5505</p>
X-ALT-DESC;FMTTYPE=text/html:<p>Children in grades 4-5 may read a book of their choice and are encouraged to bring that book to share, discuss with the group and learn about other books they might enjoy reading. The meeting includes a book discussion and a fun activity. Registration is not required for these free groups. For more information, call 925-373-5505.</p><p><label>When:&nbsp;</label>Thursday, October 28, 2021<br><label>Time:&nbsp;</label>4:00 PM<br><label>Where:&nbsp;</label>Civic Center Library Patio, 1188 S. Livermore Ave., Livermore, CA, 94550<br><label>Suggested Audience:&nbsp;</label>Children (grades 4-5)<br><label>Contact:&nbsp;</label>Tierney Alvarado&nbsp; 925-373-5505</p>
LOCATION:Civic Center Library\, 1188 S. Livermore Ave Livermore\, California 94550
CLASS:PUBLIC
END:VEVENT
END:VCALENDAR
