BEGIN:VCALENDAR
VERSION:2.0
PRODID:City of Livermore website Calendar Creator
METHOD:PUBLISH
BEGIN:VEVENT
DTSTAMP:20210923T152421
DTSTART:20210928T190000
DTEND:20210928T210000
SUMMARY:Political Issues Book Club via Zoom
DESCRIPTION:<p>Upcoming pick for the Political Issues Book Club ~<br><strong><a data-mce-href="https://livermorelibrary.bibliocommons.com/v2/search?query=The Entrepreneurial State: Debunking Public" href="https://livermorelibrary.bibliocommons.com/v2/search?query=The%20Entrepreneurial%20State:%20Debunking%20Public"><em>The Entrepreneurial State: Debunking Public vs. Private Sector Myths</em></a>&nbsp;by Mariana Mazzucato<br></strong></p><p>Mazzucato argues that the American government, often perceived as a hindrance to technology, has in fact been a great innovator, responsible for such breakthroughs as GPS, the Internet, and search engine algorithms.</p><p>To join the book club group, contact Blanche Angelo at&nbsp;<a href="mailto:beangelo@livermore.lib.ca.us" data-mce-href="mailto:&#98;&#101;&#97;&#110;&#103;&#101;&#108;&#111;&#64;&#108;&#105;&#118;&#101;&#114;&#109;&#111;&#114;&#101;&#46;&#108;&#105;&#98;&#46;&#99;&#97;&#46;&#117;&#115;">beangelo@livermore.lib.ca.us</a>&nbsp;or call 925-373-5574.</p><p><label>When:&nbsp;</label>Tuesday, September 28, 2021<br><label>Time:&nbsp;</label>7:00 PM - 9:00 PM<br><label>Where:&nbsp;</label>Online via Zoom<br><label>Suggested Audience:&nbsp;</label>Adults, Book Club<br><label>Contact:&nbsp;</label>Blanche Angelo&nbsp; 925-373-5574</p>
X-ALT-DESC;FMTTYPE=text/html:<p>Upcoming pick for the Political Issues Book Club ~<br><strong><a data-mce-href="https://livermorelibrary.bibliocommons.com/v2/search?query=The Entrepreneurial State: Debunking Public" href="https://livermorelibrary.bibliocommons.com/v2/search?query=The%20Entrepreneurial%20State:%20Debunking%20Public"><em>The Entrepreneurial State: Debunking Public vs. Private Sector Myths</em></a>&nbsp;by Mariana Mazzucato<br></strong></p><p>Mazzucato argues that the American government, often perceived as a hindrance to technology, has in fact been a great innovator, responsible for such breakthroughs as GPS, the Internet, and search engine algorithms.</p><p>To join the book club group, contact Blanche Angelo at&nbsp;<a href="mailto:beangelo@livermore.lib.ca.us" data-mce-href="mailto:&#98;&#101;&#97;&#110;&#103;&#101;&#108;&#111;&#64;&#108;&#105;&#118;&#101;&#114;&#109;&#111;&#114;&#101;&#46;&#108;&#105;&#98;&#46;&#99;&#97;&#46;&#117;&#115;">beangelo@livermore.lib.ca.us</a>&nbsp;or call 925-373-5574.</p><p><label>When:&nbsp;</label>Tuesday, September 28, 2021<br><label>Time:&nbsp;</label>7:00 PM - 9:00 PM<br><label>Where:&nbsp;</label>Online via Zoom<br><label>Suggested Audience:&nbsp;</label>Adults, Book Club<br><label>Contact:&nbsp;</label>Blanche Angelo&nbsp; 925-373-5574</p>
LOCATION:
CLASS:PUBLIC
END:VEVENT
END:VCALENDAR
