BEGIN:VCALENDAR
VERSION:2.0
PRODID:City of Livermore website Calendar Creator
METHOD:PUBLISH
BEGIN:VEVENT
DTSTAMP:20210930T142717
DTSTART:20211022T000000
DTEND:20211024T235900
SUMMARY:Charles Curtis Blackwell Film Screening
DESCRIPTION:<p>Watch a virtual screening of the documentary <em>The God Given Talent: The Creative Life of Charles Curtis Blackwell</em>. The documentary will be available from October 22, 2021 through October 24, 2021. Registration is required; register by calling (925) 373-5505. Registrants will receive a link and password to view the film online.<br><br>On Saturday November 13, 2021, at 2:00 p.m., the film’s director, Jeff M. Giordano,&nbsp;will be at Civic Center Library along with Charles Curtis Blackwell&nbsp;for an afternoon of poetry reading, discussion, and Q &amp; A. This in-person event will be held outside on the Library’s patio.<br><br><em>The God Given Talent</em> is an award-winning independent documentary about Charles Curtis Blackwell, African American blind poet, painter, playwright, and teacher.&nbsp; The film takes viewers on an intimate journey into Blackwell’s past and present, from his challenging upbringing in both California and Mississippi, to his current creative life.&nbsp;&nbsp;</p><p>The Film Screening and Library event are sponsored by the Friends of the Livermore Public Library as part of the Library’s Authors and Arts Series.&nbsp;</p><p><label>When:&nbsp;&nbsp;</label>Friday, October 22, 2021<br><label>Time:&nbsp;&nbsp;</label>All Day<br><label>Where:&nbsp;&nbsp;</label>Online<br><label>Suggested Audience:&nbsp;&nbsp;</label>Adults, Teens<br><label>Contact:&nbsp;&nbsp;</label>Paul Sevilla&nbsp; 925-373-5505</p>
X-ALT-DESC;FMTTYPE=text/html:<p>Watch a virtual screening of the documentary <em>The God Given Talent: The Creative Life of Charles Curtis Blackwell</em>. The documentary will be available from October 22, 2021 through October 24, 2021. Registration is required; register by calling (925) 373-5505. Registrants will receive a link and password to view the film online.<br><br>On Saturday November 13, 2021, at 2:00 p.m., the film’s director, Jeff M. Giordano,&nbsp;will be at Civic Center Library along with Charles Curtis Blackwell&nbsp;for an afternoon of poetry reading, discussion, and Q &amp; A. This in-person event will be held outside on the Library’s patio.<br><br><em>The God Given Talent</em> is an award-winning independent documentary about Charles Curtis Blackwell, African American blind poet, painter, playwright, and teacher.&nbsp; The film takes viewers on an intimate journey into Blackwell’s past and present, from his challenging upbringing in both California and Mississippi, to his current creative life.&nbsp;&nbsp;</p><p>The Film Screening and Library event are sponsored by the Friends of the Livermore Public Library as part of the Library’s Authors and Arts Series.&nbsp;</p><p><label>When:&nbsp;&nbsp;</label>Friday, October 22, 2021<br><label>Time:&nbsp;&nbsp;</label>All Day<br><label>Where:&nbsp;&nbsp;</label>Online<br><label>Suggested Audience:&nbsp;&nbsp;</label>Adults, Teens<br><label>Contact:&nbsp;&nbsp;</label>Paul Sevilla&nbsp; 925-373-5505</p>
LOCATION:
CLASS:PUBLIC
END:VEVENT
END:VCALENDAR
