BEGIN:VCALENDAR
VERSION:2.0
PRODID:City of Livermore website Calendar Creator
METHOD:PUBLISH
BEGIN:VEVENT
DTSTAMP:20260420T180835
DTSTART:20260515T153000
DTEND:20260515T163000
SUMMARY:KPop Demon Hunters Party
DESCRIPTION:Celebrate all things K-Pop Demon Hunters with crafts, snacks, and more! For all ages.
X-ALT-DESC;FMTTYPE=text/html:Celebrate all things K-Pop Demon Hunters with crafts, snacks, and more! For all ages.
LOCATION:Rincon Library\, 725 Rincon Avenue Livermore\, California 94551
CLASS:PUBLIC
END:VEVENT
END:VCALENDAR
