BEGIN:VCALENDAR
VERSION:2.0
PRODID:City of Livermore website Calendar Creator
METHOD:PUBLISH
BEGIN:VEVENT
DTSTAMP:20260417T164345
DTSTART:20260519T110000
DTEND:20260519T120000
SUMMARY:Online Author Talk with Livermore Public Library
DESCRIPTION:<p>Discover our May Virtual Author Talk Series. Join bestselling and award-winning authors from around the world for free online conversations. The featured writers and thought leaders cover a wide range of fiction, nonfiction, and K–12 genres.&nbsp;Ask questions, get inspired, and explore new stories. View the full schedule, register, and submit questions to the author at&nbsp;<u><a href="https://libraryc.org/livermoreca" data-auth="NotApplicable">https://libraryc.org/livermoreca</a></u>. All are welcome!</p><p>May 2026 Author Talks lineup:</p><ul>    <li>Tuesday, May 19, 2026, at 11 a.m. PDT<br>    <b>Reshape Your Beliefs and Unlock Your True Potential with <a href="https://livermorelibrary.bibliocommons.com/v2/search?query=Nir%20Eyal&amp;searchType=smart" target="_self">Nir Eyal</a></b><br>    Internationally bestselling author of&nbsp;<i>Hooked</i>&nbsp;and&nbsp;<i>Indistractable</i></li></ul><ul>    <li>Wednesday, May 20, 2026, at 4:00 p.m. PDT<br>    <b>Dangerous Magic, Enchanting Romance, and Painting the Future with <a href="https://livermorelibrary.bibliocommons.com/v2/search?query=Elizabeth%20Lim&amp;searchType=smart" target="_self">Elizabeth Lim</a></b><br>    New York Times bestselling author of&nbsp;<i>Six Crimson Cranes</i>&nbsp;and&nbsp;<i>Spin the Dawn</i></li></ul><p>All events are free and open to the public. Visit&nbsp;<a href="https://libraryc.org/livermoreca" target="_blank" rel="noopener">https://libraryc.org/livermoreca</a>&nbsp;to register for the author talks or for more information.</p>
X-ALT-DESC;FMTTYPE=text/html:<p>Discover our May Virtual Author Talk Series. Join bestselling and award-winning authors from around the world for free online conversations. The featured writers and thought leaders cover a wide range of fiction, nonfiction, and K–12 genres.&nbsp;Ask questions, get inspired, and explore new stories. View the full schedule, register, and submit questions to the author at&nbsp;<u><a href="https://libraryc.org/livermoreca" data-auth="NotApplicable">https://libraryc.org/livermoreca</a></u>. All are welcome!</p><p>May 2026 Author Talks lineup:</p><ul>    <li>Tuesday, May 19, 2026, at 11 a.m. PDT<br>    <b>Reshape Your Beliefs and Unlock Your True Potential with <a href="https://livermorelibrary.bibliocommons.com/v2/search?query=Nir%20Eyal&amp;searchType=smart" target="_self">Nir Eyal</a></b><br>    Internationally bestselling author of&nbsp;<i>Hooked</i>&nbsp;and&nbsp;<i>Indistractable</i></li></ul><ul>    <li>Wednesday, May 20, 2026, at 4:00 p.m. PDT<br>    <b>Dangerous Magic, Enchanting Romance, and Painting the Future with <a href="https://livermorelibrary.bibliocommons.com/v2/search?query=Elizabeth%20Lim&amp;searchType=smart" target="_self">Elizabeth Lim</a></b><br>    New York Times bestselling author of&nbsp;<i>Six Crimson Cranes</i>&nbsp;and&nbsp;<i>Spin the Dawn</i></li></ul><p>All events are free and open to the public. Visit&nbsp;<a href="https://libraryc.org/livermoreca" target="_blank" rel="noopener">https://libraryc.org/livermoreca</a>&nbsp;to register for the author talks or for more information.</p>
LOCATION:Online at https://libraryc.org/livermoreca\, 
CLASS:PUBLIC
END:VEVENT
END:VCALENDAR
