BEGIN:VCALENDAR
VERSION:2.0
PRODID:City of Livermore website Calendar Creator
METHOD:PUBLISH
BEGIN:VEVENT
DTSTAMP:20260204T152832
DTSTART:20260213T163000
DTEND:20260213T210000
SUMMARY:Night to Shine
DESCRIPTION:<div x14z9mp="" xat24cr="" x1lziwak="" x1vvkbs="" x126k92a"=""><div dir="auto"> Night to Shine 2026&nbsp;</div><p dir="auto">&nbsp;</p></div><div xat24cr="" x1lziwak="" x1vvkbs="" xtlvy1s="" x126k92a"=""><div dir="auto">Livermore Police will have the privilege of attending <a attributionsrc="/privacy_sandbox/comet/register/source/?xt=AZZ845AUOK_1HVdgPptSru_INzkX8Kh7QYNH-VQhnAdTBTemhkdX9_TYSzmdT0pSmIChitT0mdf-S4KWm0jWP2IhY2Y4eiZPfB-vxl4leJpFdug556TuXNnrcUidMNoIoAgdfo7pS33zlBdxmX4Mp3ZnfNqBkxf-0UuTuIZ97X6M5J78rAnT1yUOWyV6rBhOwljn2CB5PmLvSRvzagX0_8b9Vrar1wsVR_20woFhW8N2INf_BYyLI63uFxsu-Rd3uIkzqhpGP6b3HjFiEAP0DRhCN0bIh04EcR3f6AUMQDrobtRKYHJaSjgeGFCY4VUSRSmlwJ9l0M0sswEWs7B3oQ6d_aMbBbUoaQntN2p11neJXNzKvKNmFOGXj8KS8CVAFUzXVbzUYYFQIJI9WC2K-GY7F2bSCnOVdcOdvs2Pj0qANxjdDdJS_piPh-BuKPC2ap6UXqezVGT3OV5qw8jmqd5jYfy8Q8t1RRR6ohv-1aSK7JAmi0ys0vwn5uCDU7Z3xDvNAAdwSIYrATTUp_kzaXAiS-SMaFSvSwu8OtFzP75ARgJB4MopX5zetyfc4LwtEoe9PXEr9Jai92iPjx48NAZrbhJo58vjs4B123y5wCQoSdeIFujDYQggwYiatADdVpfveO6EU09OGxvycCETEk41XrNdvBCoy9jkEqXS8oRqXd8YifsE6zLHbZSEqkwY-uMdJtLey_hfzqYYGWpHCvmxhjVIqAAYHrJiyPR6EHa8bEhkEz2q_WyDDyKLEL4m8suNsxUJiQ3JLXUUENImjNAfAK8CIWmdktZeWgvMfJmFzOZVgKb9QEzi21pq1KUFPdJYanXi9gkHEo6FOT9dRzEoxMdU6aMzz-WvYOTZQnaZf048Zh0oV03lyJ8ABKU1Vj1b089wOkO4t78c1LbhqtSQ_MmpSVJZKiZu14shPPBSioFJ3cGtrwYZl6Jr_X7kunGHfe62_AnziP7jBCzDcTKPzyBQTRT3IncJpYf5IjL6j5ZBYjcHz46p4VmlALBHo0LhPhYjLLtfENI11CfWcJlVG0VdSWKKHP-LeonUhooQNpLyys1QTYencctz9yL9mfllMqG6T7ywXUiszD0x67NanjtzSdMpkh6ayrUz8I3VW3fSLKvZ8rnUxv9Sxc7A3Dh1L1DtnZGLuuUDr-J1ojQaEGm10XepZ_Jyo8bgCGXB4gauLGod6zs5BLcfl9oBKHz0YZwA2raGJFTnFLRqPMWggBcaKkay4zO52XyTN6ON0VkpNSo-2ISXx73-qqdfrLr0Oc4ng2IQzXXD7ktMC-7DKS-BlcntesxJiSep9nK3DFUmi5sWWpNmZva2QLxNbL0W5Z4NHyeSfqDmjHkb82itUeH02Hg9PLf7nTHpwKisVMuLIG-MDC4irDonSWGup4BCAPsakzKlDrymV1P4kXEZ2t_IPPZM7fuMemYltVMwqeSi8rirJ_hCVx8Bqc_DA64VGdQ-x2F-BejjuaVUJC9lP0OzM41dthnlEc0liPZy7Qcbgg78A2PJ1vc7WSg-wZYg8YwjV7SRjJtWxoq9Qlw02EVPSCG08E84IEYd8k6WrH3bON5DM5chl12sASMR0bTauxfoR8-C35opHGvt3AslYdgGDN93KhihuhyDqmMU8w" xjbqb8w="" x1ejq31n="" x18oe1m7="" x1sy0etr="" xstzfhl="" x972fbf="" x10w94by="" x1qhh985="" x14e42zd="" x9f619="" x1ypdohk="" xt0psk2="" x3ct3a4="" xdj266r="" x14z9mp="" xat24cr="" x1lziwak="" xexx8yu="" xyri2b="" x18d9i69="" x1c1uobl="" x16tdsg8="" x1hl2dhg="" xggy1nq="" x1a2a7pz="" xkrqix3="" x1sur9pj="" x1fey0fg="" x1s688f"="" href="https://blueoaks.church/night-to-shine/" role="link" tabindex="0" target="_blank" rel="noopener">Night to Shine - Tri-Valley</a> at Blue Oaks Church in Pleasanton. It's an unforgettable evening celebrating individuals with special needs in a joyful, prom-like experience.</div><p dir="auto">&nbsp;</p><p dir="auto"><span style="font-size: 1.25rem;">We’re honored to be part of such a heartwarming event and grateful for the opportunity to support our incredible community. </span></p></div>
X-ALT-DESC;FMTTYPE=text/html:<div x14z9mp="" xat24cr="" x1lziwak="" x1vvkbs="" x126k92a"=""><div dir="auto"> Night to Shine 2026&nbsp;</div><p dir="auto">&nbsp;</p></div><div xat24cr="" x1lziwak="" x1vvkbs="" xtlvy1s="" x126k92a"=""><div dir="auto">Livermore Police will have the privilege of attending <a attributionsrc="/privacy_sandbox/comet/register/source/?xt=AZZ845AUOK_1HVdgPptSru_INzkX8Kh7QYNH-VQhnAdTBTemhkdX9_TYSzmdT0pSmIChitT0mdf-S4KWm0jWP2IhY2Y4eiZPfB-vxl4leJpFdug556TuXNnrcUidMNoIoAgdfo7pS33zlBdxmX4Mp3ZnfNqBkxf-0UuTuIZ97X6M5J78rAnT1yUOWyV6rBhOwljn2CB5PmLvSRvzagX0_8b9Vrar1wsVR_20woFhW8N2INf_BYyLI63uFxsu-Rd3uIkzqhpGP6b3HjFiEAP0DRhCN0bIh04EcR3f6AUMQDrobtRKYHJaSjgeGFCY4VUSRSmlwJ9l0M0sswEWs7B3oQ6d_aMbBbUoaQntN2p11neJXNzKvKNmFOGXj8KS8CVAFUzXVbzUYYFQIJI9WC2K-GY7F2bSCnOVdcOdvs2Pj0qANxjdDdJS_piPh-BuKPC2ap6UXqezVGT3OV5qw8jmqd5jYfy8Q8t1RRR6ohv-1aSK7JAmi0ys0vwn5uCDU7Z3xDvNAAdwSIYrATTUp_kzaXAiS-SMaFSvSwu8OtFzP75ARgJB4MopX5zetyfc4LwtEoe9PXEr9Jai92iPjx48NAZrbhJo58vjs4B123y5wCQoSdeIFujDYQggwYiatADdVpfveO6EU09OGxvycCETEk41XrNdvBCoy9jkEqXS8oRqXd8YifsE6zLHbZSEqkwY-uMdJtLey_hfzqYYGWpHCvmxhjVIqAAYHrJiyPR6EHa8bEhkEz2q_WyDDyKLEL4m8suNsxUJiQ3JLXUUENImjNAfAK8CIWmdktZeWgvMfJmFzOZVgKb9QEzi21pq1KUFPdJYanXi9gkHEo6FOT9dRzEoxMdU6aMzz-WvYOTZQnaZf048Zh0oV03lyJ8ABKU1Vj1b089wOkO4t78c1LbhqtSQ_MmpSVJZKiZu14shPPBSioFJ3cGtrwYZl6Jr_X7kunGHfe62_AnziP7jBCzDcTKPzyBQTRT3IncJpYf5IjL6j5ZBYjcHz46p4VmlALBHo0LhPhYjLLtfENI11CfWcJlVG0VdSWKKHP-LeonUhooQNpLyys1QTYencctz9yL9mfllMqG6T7ywXUiszD0x67NanjtzSdMpkh6ayrUz8I3VW3fSLKvZ8rnUxv9Sxc7A3Dh1L1DtnZGLuuUDr-J1ojQaEGm10XepZ_Jyo8bgCGXB4gauLGod6zs5BLcfl9oBKHz0YZwA2raGJFTnFLRqPMWggBcaKkay4zO52XyTN6ON0VkpNSo-2ISXx73-qqdfrLr0Oc4ng2IQzXXD7ktMC-7DKS-BlcntesxJiSep9nK3DFUmi5sWWpNmZva2QLxNbL0W5Z4NHyeSfqDmjHkb82itUeH02Hg9PLf7nTHpwKisVMuLIG-MDC4irDonSWGup4BCAPsakzKlDrymV1P4kXEZ2t_IPPZM7fuMemYltVMwqeSi8rirJ_hCVx8Bqc_DA64VGdQ-x2F-BejjuaVUJC9lP0OzM41dthnlEc0liPZy7Qcbgg78A2PJ1vc7WSg-wZYg8YwjV7SRjJtWxoq9Qlw02EVPSCG08E84IEYd8k6WrH3bON5DM5chl12sASMR0bTauxfoR8-C35opHGvt3AslYdgGDN93KhihuhyDqmMU8w" xjbqb8w="" x1ejq31n="" x18oe1m7="" x1sy0etr="" xstzfhl="" x972fbf="" x10w94by="" x1qhh985="" x14e42zd="" x9f619="" x1ypdohk="" xt0psk2="" x3ct3a4="" xdj266r="" x14z9mp="" xat24cr="" x1lziwak="" xexx8yu="" xyri2b="" x18d9i69="" x1c1uobl="" x16tdsg8="" x1hl2dhg="" xggy1nq="" x1a2a7pz="" xkrqix3="" x1sur9pj="" x1fey0fg="" x1s688f"="" href="https://blueoaks.church/night-to-shine/" role="link" tabindex="0" target="_blank" rel="noopener">Night to Shine - Tri-Valley</a> at Blue Oaks Church in Pleasanton. It's an unforgettable evening celebrating individuals with special needs in a joyful, prom-like experience.</div><p dir="auto">&nbsp;</p><p dir="auto"><span style="font-size: 1.25rem;">We’re honored to be part of such a heartwarming event and grateful for the opportunity to support our incredible community. </span></p></div>
LOCATION:Blue Oaks Church\, 7139 Koll Center Parkway Pleasanton\, California 
CLASS:PUBLIC
END:VEVENT
END:VCALENDAR
