BEGIN:VCALENDAR
VERSION:2.0
PRODID:City of Livermore website Calendar Creator
METHOD:PUBLISH
BEGIN:VEVENT
DTSTAMP:20260129T144603
DTSTART:20260129T183000
DTEND:20260129T203000
SUMMARY:South Livermore Valley Trail Extension Outreach Meeting
DESCRIPTION:<p>As part of the South Livermore Valley Trail Extension Project, TB200714, the City of Livermore will be constructing a new trail connection near Traviso Circle. The existing trail begins at Isabel Avenue and Alden Lane and continues east on the south side of the existing residential neighborhood but stops south of Wood Hollow Drive.</p><p>We invite you to take part in an online community outreach event where we will show our recommended design for the east end of the trail. Your participation is very important as comments you provide during this meeting can impact the design of the trail and nearby berm. The meeting will take place via Zoom, meeting details are below.&nbsp;</p><p>Zoom link:&nbsp;<a href="https://us02web.zoom.us/j/83878075487">https://us02web.zoom.us/j/83878075487</a></p><p>Call in: (669) 444-9171</p><p>Meeting ID: 838 7807 5487</p><p>&nbsp;</p><div></div>
X-ALT-DESC;FMTTYPE=text/html:<p>As part of the South Livermore Valley Trail Extension Project, TB200714, the City of Livermore will be constructing a new trail connection near Traviso Circle. The existing trail begins at Isabel Avenue and Alden Lane and continues east on the south side of the existing residential neighborhood but stops south of Wood Hollow Drive.</p><p>We invite you to take part in an online community outreach event where we will show our recommended design for the east end of the trail. Your participation is very important as comments you provide during this meeting can impact the design of the trail and nearby berm. The meeting will take place via Zoom, meeting details are below.&nbsp;</p><p>Zoom link:&nbsp;<a href="https://us02web.zoom.us/j/83878075487">https://us02web.zoom.us/j/83878075487</a></p><p>Call in: (669) 444-9171</p><p>Meeting ID: 838 7807 5487</p><p>&nbsp;</p><div></div>
LOCATION:Zoom\, 
CLASS:PUBLIC
END:VEVENT
END:VCALENDAR
