BEGIN:VCALENDAR
VERSION:2.0
PRODID:City of Livermore website Calendar Creator
METHOD:PUBLISH
BEGIN:VEVENT
DTSTAMP:20251223T151245
DTSTART:20260120T000000
DTEND:20260120T235900
SUMMARY:Take & Make Craft: Snowshoe Hare
DESCRIPTION:Learn about animals that change color in the winter. Come to the Springtown Library to pick up a kit containing the specialized supplies that you need to create a winter scene featuring a snowshoe hare with its new winter coat. This free activity kit is available during the month of January, while supplies last.
X-ALT-DESC;FMTTYPE=text/html:Learn about animals that change color in the winter. Come to the Springtown Library to pick up a kit containing the specialized supplies that you need to create a winter scene featuring a snowshoe hare with its new winter coat. This free activity kit is available during the month of January, while supplies last.
LOCATION:Springtown Library\, 998 Bluebell Dr Livermore\, California 94551
CLASS:PUBLIC
END:VEVENT
END:VCALENDAR
