BEGIN:VCALENDAR
VERSION:2.0
PRODID:City of Livermore website Calendar Creator
METHOD:PUBLISH
BEGIN:VEVENT
DTSTAMP:20251222T143151
DTSTART:20260202T183000
DTEND:20260202T193000
SUMMARY:Airport Commission Meeting
DESCRIPTION:View meeting details on the City Meeting and Agenda page.&nbsp; Agenda materials published 72 hours prior to the meeting.
X-ALT-DESC;FMTTYPE=text/html:View meeting details on the City Meeting and Agenda page.&nbsp; Agenda materials published 72 hours prior to the meeting.
LOCATION:Civic Center Meeting Hall\, 1016 S. Livermore Avenue Livermore\, California 94550
CLASS:PUBLIC
END:VEVENT
END:VCALENDAR
