BEGIN:VCALENDAR
VERSION:2.0
PRODID:City of Livermore website Calendar Creator
METHOD:PUBLISH
BEGIN:VEVENT
DTSTAMP:20251217T125306
DTSTART:20260121T190000
DTEND:20260121T203000
SUMMARY:Then & Now: Livermore Stories. "Sit Straight, Eyes Front: Livermore's Early Schools," by Jeff Kaskey
DESCRIPTION:<p>Then &amp; Now: Livermore Stories is a local history lecture series co-presented by the <a href="https://www.lhg.org/" target="_blank" rel="noopener">Livermore Heritage Guild</a> and the Livermore Public Library. Jeff Kaskey will present “Sit Straight, Eyes Front: Livermore’s Early Schools” on Wednesday, Jan. 21 at 7 p.m. in the Civic Center Library Storytime Room, 1188 S. Livermore Ave. Registration is not required to attend this free program for adults.</p><p>Jeff will discuss Livermore’s early schools and provide an update on the Livermore Heritage Guild’s efforts to move the last Livermore Valley one-room schoolhouse, Midway, from the Altamont Hills to Hagemann Park. </p>
X-ALT-DESC;FMTTYPE=text/html:<p>Then &amp; Now: Livermore Stories is a local history lecture series co-presented by the <a href="https://www.lhg.org/" target="_blank" rel="noopener">Livermore Heritage Guild</a> and the Livermore Public Library. Jeff Kaskey will present “Sit Straight, Eyes Front: Livermore’s Early Schools” on Wednesday, Jan. 21 at 7 p.m. in the Civic Center Library Storytime Room, 1188 S. Livermore Ave. Registration is not required to attend this free program for adults.</p><p>Jeff will discuss Livermore’s early schools and provide an update on the Livermore Heritage Guild’s efforts to move the last Livermore Valley one-room schoolhouse, Midway, from the Altamont Hills to Hagemann Park. </p>
LOCATION:Civic Center Library Storytime Room\, 1188 S. Livermore Ave. Livermore\, California 94550
CLASS:PUBLIC
END:VEVENT
END:VCALENDAR
