BEGIN:VCALENDAR
VERSION:2.0
PRODID:City of Livermore website Calendar Creator
METHOD:PUBLISH
BEGIN:VEVENT
DTSTAMP:20251216T155642
DTSTART:20260111T000000
DTEND:20260111T235900
SUMMARY:StoryWalk® at Sycamore Grove Park
DESCRIPTION:<p>Read a story as you go on a walk with your family. The StoryWalk®&nbsp;is an ongoing program where a book is installed, page by page, along the Magpie Nature Loop trail at&nbsp;<a href="https://www.larpd.org/sycamore-grove-park" target="_blank" rel="noopener">Sycamore Grove Park</a>. A new book is featured in the display cases every other month.&nbsp;<strong><em>On a Mushroom Day</em>&nbsp;by Chris Baker and Alexandra Finkeldey</strong>&nbsp;is the StoryWalk® book featured in Sycamore Grove Park in Dec. 2025 and Jan. 2026.&nbsp;Thank you to the&nbsp;<a href="https://www.friendsoflivermorelibrary.org/" target="_blank" rel="noopener">Friends of the Livermore Library</a>&nbsp;for providing funding for this program.</p><p>Scan the QR code on the last page of the StoryWalk®&nbsp;to complete a short survey to help the library count how many people participated in this activity. Survey respondents will be entered into a drawing to win a backpack filled with goodies. One entry per family. Families may enter again every time the StoryWalk® book is changed. The winner will be chosen at random from all eligible entries after the next StoryWalk® book is installed.</p><p>The StoryWalk® Project was created by Anne Ferguson and developed in collaboration with the Kellogg-Hubbard Library in Montpelier Vermont. StoryWalk® is a registered service mark owned by the Kellogg-Hubbard Library.</p>
X-ALT-DESC;FMTTYPE=text/html:<p>Read a story as you go on a walk with your family. The StoryWalk®&nbsp;is an ongoing program where a book is installed, page by page, along the Magpie Nature Loop trail at&nbsp;<a href="https://www.larpd.org/sycamore-grove-park" target="_blank" rel="noopener">Sycamore Grove Park</a>. A new book is featured in the display cases every other month.&nbsp;<strong><em>On a Mushroom Day</em>&nbsp;by Chris Baker and Alexandra Finkeldey</strong>&nbsp;is the StoryWalk® book featured in Sycamore Grove Park in Dec. 2025 and Jan. 2026.&nbsp;Thank you to the&nbsp;<a href="https://www.friendsoflivermorelibrary.org/" target="_blank" rel="noopener">Friends of the Livermore Library</a>&nbsp;for providing funding for this program.</p><p>Scan the QR code on the last page of the StoryWalk®&nbsp;to complete a short survey to help the library count how many people participated in this activity. Survey respondents will be entered into a drawing to win a backpack filled with goodies. One entry per family. Families may enter again every time the StoryWalk® book is changed. The winner will be chosen at random from all eligible entries after the next StoryWalk® book is installed.</p><p>The StoryWalk® Project was created by Anne Ferguson and developed in collaboration with the Kellogg-Hubbard Library in Montpelier Vermont. StoryWalk® is a registered service mark owned by the Kellogg-Hubbard Library.</p>
LOCATION:Sycamore Grove Park - Magpie Nature Loop\, 1051 Wetmore Road Livermore\, California 94550
CLASS:PUBLIC
END:VEVENT
END:VCALENDAR
