BEGIN:VCALENDAR
VERSION:2.0
PRODID:City of Livermore website Calendar Creator
METHOD:PUBLISH
BEGIN:VEVENT
DTSTAMP:20251215T170441
DTSTART:20260112T180000
DTEND:20260112T190000
SUMMARY:Book Bingo at Rincon Library
DESCRIPTION:<p>Play Bingo and win books. Prizes for all ages.</p><p>Call 925-373-5540 for more information.</p>
X-ALT-DESC;FMTTYPE=text/html:<p>Play Bingo and win books. Prizes for all ages.</p><p>Call 925-373-5540 for more information.</p>
LOCATION:Rincon Library\, 725 Rincon Avenue Livermore\, California 94551
CLASS:PUBLIC
END:VEVENT
END:VCALENDAR
