BEGIN:VCALENDAR
VERSION:2.0
PRODID:City of Livermore website Calendar Creator
METHOD:PUBLISH
BEGIN:VEVENT
DTSTAMP:20251209T115946
DTSTART:20260122T173000
DTEND:20260122T193000
SUMMARY:Opportunities Expo Employment Resources & Job Fair
DESCRIPTION:<p>Community members are invited to the fourth annual Opportunities Expo to connect job seekers with local employers. The event will be held on Thursday, Jan 22, 2026, from 5:30 to 7:30 p.m. in the Civic Center Library Community Rooms and Gallery. </p><p>Job seekers are encouraged to bring their resumes and take advantage of the chance to meet and network with local employers. This event offers a unique platform to establish professional relationships and explore potential employment options in various fields. Representatives from the <a href="https://www.trivalleycareercenter.org/" target="_blank" rel="noopener">Tri-Valley Career Center</a> will be on hand providing resume assistance. Additionally, the first 50 attendees are offered a complimentary, professional headshot, courtesy of <a href="https://www.ronessexphotography.com/" target="_blank" rel="noopener">Ron Essex Photography</a>. </p><p>Don’t miss this opportunity to take the next step in your career. Mark your calendars and join us at the Civic Center Library for an evening dedicated to your professional growth. This event is for community members 16 years and older. Children of attendees are welcome. </p>For more information, please contact Library Staff at 925-373-5505.
X-ALT-DESC;FMTTYPE=text/html:<p>Community members are invited to the fourth annual Opportunities Expo to connect job seekers with local employers. The event will be held on Thursday, Jan 22, 2026, from 5:30 to 7:30 p.m. in the Civic Center Library Community Rooms and Gallery. </p><p>Job seekers are encouraged to bring their resumes and take advantage of the chance to meet and network with local employers. This event offers a unique platform to establish professional relationships and explore potential employment options in various fields. Representatives from the <a href="https://www.trivalleycareercenter.org/" target="_blank" rel="noopener">Tri-Valley Career Center</a> will be on hand providing resume assistance. Additionally, the first 50 attendees are offered a complimentary, professional headshot, courtesy of <a href="https://www.ronessexphotography.com/" target="_blank" rel="noopener">Ron Essex Photography</a>. </p><p>Don’t miss this opportunity to take the next step in your career. Mark your calendars and join us at the Civic Center Library for an evening dedicated to your professional growth. This event is for community members 16 years and older. Children of attendees are welcome. </p>For more information, please contact Library Staff at 925-373-5505.
LOCATION:Civic Center Community Rooms and Gallery\, 1188 S. Livermore Ave. Livermore\, California 94550
CLASS:PUBLIC
END:VEVENT
END:VCALENDAR
