BEGIN:VCALENDAR
VERSION:2.0
PRODID:City of Livermore website Calendar Creator
METHOD:PUBLISH
BEGIN:VEVENT
DTSTAMP:20251208T171555
DTSTART:20260101T190000
DTEND:20260101T210000
SUMMARY:No WTBC Meeting Due to Holiday
DESCRIPTION:<p><b>***There will be no January<b>&nbsp;</b>meeting for We're Talkin' Books! Club due to the holiday.***</b></p>
X-ALT-DESC;FMTTYPE=text/html:<p><b>***There will be no January<b>&nbsp;</b>meeting for We're Talkin' Books! Club due to the holiday.***</b></p>
LOCATION:
CLASS:PUBLIC
END:VEVENT
END:VCALENDAR
