BEGIN:VCALENDAR
VERSION:2.0
PRODID:City of Livermore website Calendar Creator
METHOD:PUBLISH
BEGIN:VEVENT
DTSTAMP:20251230T185802
DTSTART:20260205T190000
DTEND:20260205T210000
SUMMARY:We're Talkin' Books! Club hybrid meeting
DESCRIPTION:<p><i><strong><a href="https://livermorelibrary.bibliocommons.com/v2/search?query=Culpability%20Bruce%20Holsinger&amp;searchType=smart" target="_self">Culpability</a> </strong></i><strong>by Bruce Holsinger</strong> is the February book for the We’re Talkin’ Books! Club. Join in person at the Civic Center Library in the Board Room or via Zoom at <a href="https://tinyurl.com/WTBLPL">https://tinyurl.com/WTBLPL</a> on Thursday, Feb. 5 at 7 p.m.</p><p><b>***There will be no meeting for WTBC in January due to the holiday.***</b></p><p>Book Summary: “When the Cassidy-Shaws’ autonomous minivan collides with an oncoming car, seventeen-year-old Charlie is in the driver’s seat, with his father, Noah, riding shotgun. In the back seat, tweens Alice and Izzy are on their phones, while their mother, Lorelei, a world leader in the field of artificial intelligence, is absorbed in her work. Yet each family member harbors a secret that implicates them in the accident.&nbsp;</p><p>During a weeklong recuperation on the Chesapeake Bay, the family confronts the excruciating moral dilemmas triggered by the crash. Noah tries to hold the family together as a seemingly routine police investigation jeopardizes Charlie’s future. Alice and Izzy turn strangely furtive. And Lorelei’s odd behavior tugs at Noah’s suspicions that there is a darker truth behind the incident—suspicions heightened by the sudden intrusion of Daniel Monet, a tech mogul whose mysterious history with Lorelei hints at betrayal. When Charlie falls for Monet’s teenaged daughter, the stakes are raised even higher in this propulsive family drama that is also a fascinating exploration of the moral responsibility and ethical consequences of AI.</p><p><i>Culpability</i> explores a world newly shaped by chatbots, autonomous cars, drones, and other nonhuman forces in ways that are thrilling, challenging, and unimaginably provocative.”–the publisher</p><p><a href="http://library.livermoreca.gov/digital-library/books-more/book-clubs" target="_self">Book Clubs at the Livermore Public Library</a></p>
X-ALT-DESC;FMTTYPE=text/html:<p><i><strong><a href="https://livermorelibrary.bibliocommons.com/v2/search?query=Culpability%20Bruce%20Holsinger&amp;searchType=smart" target="_self">Culpability</a> </strong></i><strong>by Bruce Holsinger</strong> is the February book for the We’re Talkin’ Books! Club. Join in person at the Civic Center Library in the Board Room or via Zoom at <a href="https://tinyurl.com/WTBLPL">https://tinyurl.com/WTBLPL</a> on Thursday, Feb. 5 at 7 p.m.</p><p><b>***There will be no meeting for WTBC in January due to the holiday.***</b></p><p>Book Summary: “When the Cassidy-Shaws’ autonomous minivan collides with an oncoming car, seventeen-year-old Charlie is in the driver’s seat, with his father, Noah, riding shotgun. In the back seat, tweens Alice and Izzy are on their phones, while their mother, Lorelei, a world leader in the field of artificial intelligence, is absorbed in her work. Yet each family member harbors a secret that implicates them in the accident.&nbsp;</p><p>During a weeklong recuperation on the Chesapeake Bay, the family confronts the excruciating moral dilemmas triggered by the crash. Noah tries to hold the family together as a seemingly routine police investigation jeopardizes Charlie’s future. Alice and Izzy turn strangely furtive. And Lorelei’s odd behavior tugs at Noah’s suspicions that there is a darker truth behind the incident—suspicions heightened by the sudden intrusion of Daniel Monet, a tech mogul whose mysterious history with Lorelei hints at betrayal. When Charlie falls for Monet’s teenaged daughter, the stakes are raised even higher in this propulsive family drama that is also a fascinating exploration of the moral responsibility and ethical consequences of AI.</p><p><i>Culpability</i> explores a world newly shaped by chatbots, autonomous cars, drones, and other nonhuman forces in ways that are thrilling, challenging, and unimaginably provocative.”–the publisher</p><p><a href="http://library.livermoreca.gov/digital-library/books-more/book-clubs" target="_self">Book Clubs at the Livermore Public Library</a></p>
LOCATION:Hybrid Meeting on Zoom at https://tinyurl.com/WTBLPL & Civic Center Library Board Room\, 1188 S. Livermore Ave. Livermore\, California 94550
CLASS:PUBLIC
END:VEVENT
END:VCALENDAR
