BEGIN:VCALENDAR
VERSION:2.0
PRODID:City of Livermore website Calendar Creator
METHOD:PUBLISH
BEGIN:VEVENT
DTSTAMP:20251210T144145
DTSTART:20260204T180000
DTEND:20260204T213000
SUMMARY:Community Police Academy Class #45 Starts
DESCRIPTION:The Livermore Police Department is pleased to announce that applications are now open for the 2026 Community Police Academy, a 15-week educational program designed to strengthen understanding and partnership between the police department and the community we serve.<br><br>📅 Program Schedule:<br>▪️Weekly sessions every Wednesday from February 4 - May 6, 2026, 6 - 9:30 p.m.<br>▪️Additional sessions on Saturday, March 21 (8:30 a.m. - 4 p.m.) and Tuesday, April 15 (6- 9:30 p.m.)<br><br>Participants will gain insight into police operations, specialized units, technology, training, and the day-to-day work of our department.<br><br>📝 Applications are now being accepted.<br>Learn more and apply here:&nbsp;<b>&nbsp;</b><a href="https://police.livermoreca.gov/community/community-police-academy" target="_blank" title="https://police.livermoreca.gov/community/community-police-academy"><b>https://police.livermoreca.gov/community/community-police-academy</b></a>
X-ALT-DESC;FMTTYPE=text/html:The Livermore Police Department is pleased to announce that applications are now open for the 2026 Community Police Academy, a 15-week educational program designed to strengthen understanding and partnership between the police department and the community we serve.<br><br>📅 Program Schedule:<br>▪️Weekly sessions every Wednesday from February 4 - May 6, 2026, 6 - 9:30 p.m.<br>▪️Additional sessions on Saturday, March 21 (8:30 a.m. - 4 p.m.) and Tuesday, April 15 (6- 9:30 p.m.)<br><br>Participants will gain insight into police operations, specialized units, technology, training, and the day-to-day work of our department.<br><br>📝 Applications are now being accepted.<br>Learn more and apply here:&nbsp;<b>&nbsp;</b><a href="https://police.livermoreca.gov/community/community-police-academy" target="_blank" title="https://police.livermoreca.gov/community/community-police-academy"><b>https://police.livermoreca.gov/community/community-police-academy</b></a>
LOCATION:Livermore Police Department\, 1110 S. Livermore Ave. Livermore\, California 94550
CLASS:PUBLIC
END:VEVENT
END:VCALENDAR
