BEGIN:VCALENDAR
VERSION:2.0
PRODID:City of Livermore website Calendar Creator
METHOD:PUBLISH
BEGIN:VEVENT
DTSTAMP:20251208T160759
DTSTART:20260112T190000
DTEND:20260112T210000
SUMMARY:Fiber Friends
DESCRIPTION:<p> Participants are encouraged to chat with fellow crafters and work on their craft project, knitting, sewing, crochet, cross-stitch, etc. Fiber Friends is geared towards adults. </p><p>Second Monday of the month in January and February 2026:</p><ul>    <li>Monday, Jan. 12</li>    <li>Monday, Feb. 9</li></ul><p>&nbsp;</p>
X-ALT-DESC;FMTTYPE=text/html:<p> Participants are encouraged to chat with fellow crafters and work on their craft project, knitting, sewing, crochet, cross-stitch, etc. Fiber Friends is geared towards adults. </p><p>Second Monday of the month in January and February 2026:</p><ul>    <li>Monday, Jan. 12</li>    <li>Monday, Feb. 9</li></ul><p>&nbsp;</p>
LOCATION:Civic Center Library Storytime Room\, 1188 S. Livermore Ave. Livermore\, California 94550
CLASS:PUBLIC
END:VEVENT
END:VCALENDAR
