BEGIN:VCALENDAR
VERSION:2.0
PRODID:City of Livermore website Calendar Creator
METHOD:PUBLISH
BEGIN:VEVENT
DTSTAMP:20251203T163653
DTSTART:20251217T000000
DTEND:20251217T235900
SUMMARY:Last Day to Support LPD's Fundraiser for Josy
DESCRIPTION:<p>Livermore Police is supporting First Street Alehouse’s Annual Beard Growing Contest - a fun community contest with a purpose: to raise awareness and raise funds. This year, all funds raised will help create a dream bedroom for Josy, a courageous local teen battling cancer. Three of our own are stepping up for the cause: Officer Lowden, Officer Jackman, and Officer Burruss (who isn’t growing a beard, but is helping raise funds!)</p><p>To support our officers and Josy, you can donate directly through our LPD fundraising page:</p><p><a href="https://pledgestar.com/t/8JI7/">https://pledgestar.com/t/8JI7/</a></p><p>Feel free to spread the word! The contest wraps up on December 17.</p><p>If you’d like to learn more about the event and the story behind it, here’s a short video I put together:</p><p><u><a href="https://youtu.be/jPkIF3lci3E?si=PvLDRk4DFJALKTuz">https://youtu.be/jPkIF3lci3E?si=PvLDRk4DFJALKTuz</a></u></p><p>Thank you for your support and for helping bring a little extra hope to Josy this holiday season.</p><p></p><p>&nbsp;</p>
X-ALT-DESC;FMTTYPE=text/html:<p>Livermore Police is supporting First Street Alehouse’s Annual Beard Growing Contest - a fun community contest with a purpose: to raise awareness and raise funds. This year, all funds raised will help create a dream bedroom for Josy, a courageous local teen battling cancer. Three of our own are stepping up for the cause: Officer Lowden, Officer Jackman, and Officer Burruss (who isn’t growing a beard, but is helping raise funds!)</p><p>To support our officers and Josy, you can donate directly through our LPD fundraising page:</p><p><a href="https://pledgestar.com/t/8JI7/">https://pledgestar.com/t/8JI7/</a></p><p>Feel free to spread the word! The contest wraps up on December 17.</p><p>If you’d like to learn more about the event and the story behind it, here’s a short video I put together:</p><p><u><a href="https://youtu.be/jPkIF3lci3E?si=PvLDRk4DFJALKTuz">https://youtu.be/jPkIF3lci3E?si=PvLDRk4DFJALKTuz</a></u></p><p>Thank you for your support and for helping bring a little extra hope to Josy this holiday season.</p><p></p><p>&nbsp;</p>
LOCATION:First Street Alehouse\, 2106 First Street Livermore\, California 94550
CLASS:PUBLIC
END:VEVENT
END:VCALENDAR
