BEGIN:VCALENDAR
VERSION:2.0
PRODID:City of Livermore website Calendar Creator
METHOD:PUBLISH
BEGIN:VEVENT
DTSTAMP:20251130T112403
DTSTART:20251223T160000
DTEND:20251223T170000
SUMMARY:Gift Wrap Party
DESCRIPTION:Bring your own gift wrap and gift. Get help to learn how to wrap gifts at your library. Limited gift wrapping supplies will be available. All ages event.
X-ALT-DESC;FMTTYPE=text/html:Bring your own gift wrap and gift. Get help to learn how to wrap gifts at your library. Limited gift wrapping supplies will be available. All ages event.
LOCATION:Springtown Library\, 998 Bluebell Dr Livermore\, California 94551
CLASS:PUBLIC
END:VEVENT
END:VCALENDAR
