BEGIN:VCALENDAR
VERSION:2.0
PRODID:City of Livermore website Calendar Creator
METHOD:PUBLISH
BEGIN:VEVENT
DTSTAMP:20251230T193517
DTSTART:20260110T140000
DTEND:20260110T150000
SUMMARY:The Boys of Riverside: A Deaf Football Team and a Quest for Glory
DESCRIPTION:<p>Journalist and author&nbsp;Thomas Fuller will give a special talk on his book "The Boys of Riverside: A Deaf Football Team and a Quest for Glory." This Authors &amp; Arts Series event is free and open to the public. A book signing will follow the presentation, and copies of the book will be available for purchase.</p><p>"The Boys of Riverside" looks back at the remarkable 2021 and 2022 seasons during which the California School for the Deaf chased history. Fuller chronicles these remarkable years through a series of heart-wrenching and uplifting narratives, following the personal journeys of the young players. Through their eyes, he offers a vivid portrait of high school athletics, powerful camaraderie, and the experience of deafness in America.</p><p>ASL interpretation will be provided&nbsp;to ensure accessibility for Deaf and hard-of-hearing community members.</p>
X-ALT-DESC;FMTTYPE=text/html:<p>Journalist and author&nbsp;Thomas Fuller will give a special talk on his book "The Boys of Riverside: A Deaf Football Team and a Quest for Glory." This Authors &amp; Arts Series event is free and open to the public. A book signing will follow the presentation, and copies of the book will be available for purchase.</p><p>"The Boys of Riverside" looks back at the remarkable 2021 and 2022 seasons during which the California School for the Deaf chased history. Fuller chronicles these remarkable years through a series of heart-wrenching and uplifting narratives, following the personal journeys of the young players. Through their eyes, he offers a vivid portrait of high school athletics, powerful camaraderie, and the experience of deafness in America.</p><p>ASL interpretation will be provided&nbsp;to ensure accessibility for Deaf and hard-of-hearing community members.</p>
LOCATION:Civic Center Library Storytime Room\, 1188 S. Livermore Ave. Livermore\, California 94550
CLASS:PUBLIC
END:VEVENT
END:VCALENDAR
