BEGIN:VCALENDAR
VERSION:2.0
PRODID:City of Livermore website Calendar Creator
METHOD:PUBLISH
BEGIN:VEVENT
DTSTAMP:20251031T112730
DTSTART:20251218T160000
DTEND:20251218T170000
SUMMARY:Maker Madness (Ages 8-12)
DESCRIPTION:<div x14z9mp="" xat24cr="" x1lziwak="" x1vvkbs"="">Maker Madness For Ages 8-12<br>Thursday, 4 p.m.<br>Civic Center Library, Storytime Room<br>Hang out, have fun, and use your creativity. Free snacks. No registration required.</div><p x14z9mp="" xat24cr="" x1lziwak=""><div x14z9mp="" xat24cr="" x1lziwak="" x1vvkbs"=""></div></p><div xat24cr="" x1lziwak="" x1vvkbs="" xtlvy1s"="">&nbsp;Dec 18: Gift Tag Making</div><div xat24cr="" x1lziwak="" x1vvkbs="" xtlvy1s"="">&nbsp;</div><div xat24cr="" x1lziwak="" x1vvkbs="" xtlvy1s"="">No classes during winter break. Restarts January 15, 2026.&nbsp;</div>
X-ALT-DESC;FMTTYPE=text/html:<div x14z9mp="" xat24cr="" x1lziwak="" x1vvkbs"="">Maker Madness For Ages 8-12<br>Thursday, 4 p.m.<br>Civic Center Library, Storytime Room<br>Hang out, have fun, and use your creativity. Free snacks. No registration required.</div><p x14z9mp="" xat24cr="" x1lziwak=""><div x14z9mp="" xat24cr="" x1lziwak="" x1vvkbs"=""></div></p><div xat24cr="" x1lziwak="" x1vvkbs="" xtlvy1s"="">&nbsp;Dec 18: Gift Tag Making</div><div xat24cr="" x1lziwak="" x1vvkbs="" xtlvy1s"="">&nbsp;</div><div xat24cr="" x1lziwak="" x1vvkbs="" xtlvy1s"="">No classes during winter break. Restarts January 15, 2026.&nbsp;</div>
LOCATION:Civic Center Library Storytime Room\, 1188 S. Livermore Ave. Livermore\, California 94550
CLASS:PUBLIC
END:VEVENT
END:VCALENDAR
