BEGIN:VCALENDAR
VERSION:2.0
PRODID:City of Livermore website Calendar Creator
METHOD:PUBLISH
BEGIN:VEVENT
DTSTAMP:20251125T112101
DTSTART:20260121T183000
DTEND:20260121T235900
SUMMARY:Outreach Meeting - Traffic Calming in Springtown
DESCRIPTION:<p>Staff will present the petition results, share the revised design based on community input, and discuss the next<br>steps. See the QR code or website link for any updates.</p><p>For more information, please see the project webpage here:&nbsp;<a href="https://www.livermoreca.gov/departments/community-development/engineering/capital-improvement-plan-projects/traffic-calming-tc202205/-fsiteid-1#!/">Traffic Calming (TC202205) | City of Livermore website</a></p>
X-ALT-DESC;FMTTYPE=text/html:<p>Staff will present the petition results, share the revised design based on community input, and discuss the next<br>steps. See the QR code or website link for any updates.</p><p>For more information, please see the project webpage here:&nbsp;<a href="https://www.livermoreca.gov/departments/community-development/engineering/capital-improvement-plan-projects/traffic-calming-tc202205/-fsiteid-1#!/">Traffic Calming (TC202205) | City of Livermore website</a></p>
LOCATION:Andrew N. Christensen Middle School Multi-Purpose Room\, 5757 Haggin Oaks Avenue Livermore\, California 94551
CLASS:PUBLIC
END:VEVENT
END:VCALENDAR
