BEGIN:VCALENDAR
VERSION:2.0
PRODID:City of Livermore website Calendar Creator
METHOD:PUBLISH
BEGIN:VEVENT
DTSTAMP:20241217T152902
DTSTART:20251224T000000
DTEND:20251224T235900
SUMMARY:Library Closed on Christmas Eve
DESCRIPTION:<p>All Library locations are closed today on Wednesday, December 24 for Christmas Eve&nbsp;and tomorrow, Thursday, December 25 for Christmas&nbsp;except for&nbsp;<a href="https://library.livermoreca.gov/about-us/locations-hours-holidays/springtown-easy-access" target="_blank">Springtown Branch Easy Access</a>&nbsp;which is open 8 a.m. - 8 p.m.</p><p>The&nbsp;<a href="https://library.livermoreca.gov/digital-library" target="_self">Digital Library</a>&nbsp;is always open. Our online branch may be explored with an Internet connection and a&nbsp;<a href="https://library.livermoreca.gov/about-us/library-cards" target="_self">Livermore Public Library card</a>. We offer: </p><ul>    <li><a href="https://www.kanopy.com/en/livermore" target="_blank">Kanopy</a>&nbsp;and&nbsp;<a href="https://0-search-alexanderstreet-com.www.livermore.lib.ca.us/" target="_blank">Alexander Street</a>&nbsp;for streaming entertainment</li>    <li><a href="https://livermore.overdrive.com/" target="_blank">OverDrive/Libby</a>&nbsp;for free downloadable eBooks, eAudiobooks, and eMagazines</li>    <li><a href="https://education.gale.com/l-livermain/" target="_blank">Gale Courses</a>&nbsp;for personal enrichment</li>    <li><a href="https://learning.pronunciator.com/getstarted.php?library_id=7929" target="_blank">Pronunciator</a>&nbsp;for learning a language</li>    <li><a href="https://livermorelibrary.discoverandgo.net/" target="_blank">Discover &amp; Go</a>&nbsp;for museum passes</li>    <li>and so&nbsp;<a href="https://library.livermoreca.gov/digital-library/digital-library" target="_blank">much more</a>!</li></ul><br>
X-ALT-DESC;FMTTYPE=text/html:<p>All Library locations are closed today on Wednesday, December 24 for Christmas Eve&nbsp;and tomorrow, Thursday, December 25 for Christmas&nbsp;except for&nbsp;<a href="https://library.livermoreca.gov/about-us/locations-hours-holidays/springtown-easy-access" target="_blank">Springtown Branch Easy Access</a>&nbsp;which is open 8 a.m. - 8 p.m.</p><p>The&nbsp;<a href="https://library.livermoreca.gov/digital-library" target="_self">Digital Library</a>&nbsp;is always open. Our online branch may be explored with an Internet connection and a&nbsp;<a href="https://library.livermoreca.gov/about-us/library-cards" target="_self">Livermore Public Library card</a>. We offer: </p><ul>    <li><a href="https://www.kanopy.com/en/livermore" target="_blank">Kanopy</a>&nbsp;and&nbsp;<a href="https://0-search-alexanderstreet-com.www.livermore.lib.ca.us/" target="_blank">Alexander Street</a>&nbsp;for streaming entertainment</li>    <li><a href="https://livermore.overdrive.com/" target="_blank">OverDrive/Libby</a>&nbsp;for free downloadable eBooks, eAudiobooks, and eMagazines</li>    <li><a href="https://education.gale.com/l-livermain/" target="_blank">Gale Courses</a>&nbsp;for personal enrichment</li>    <li><a href="https://learning.pronunciator.com/getstarted.php?library_id=7929" target="_blank">Pronunciator</a>&nbsp;for learning a language</li>    <li><a href="https://livermorelibrary.discoverandgo.net/" target="_blank">Discover &amp; Go</a>&nbsp;for museum passes</li>    <li>and so&nbsp;<a href="https://library.livermoreca.gov/digital-library/digital-library" target="_blank">much more</a>!</li></ul><br>
LOCATION:
CLASS:PUBLIC
END:VEVENT
END:VCALENDAR
